BEGIN:VCALENDAR
VERSION:2.0
PRODID:-//Family Engagement Department - ECPv4.4.5//NONSGML v1.0//EN
CALSCALE:GREGORIAN
METHOD:PUBLISH
X-WR-CALNAME:Family Engagement Department
X-ORIGINAL-URL:https://sdusdfamilies.org
X-WR-CALDESC:Events for Family Engagement Department
BEGIN:VEVENT
DTSTART;TZID=UTC+0:20170413T093000
DTEND;TZID=UTC+0:20170413T110000
DTSTAMP:20260421T180745
CREATED:20170412T030740Z
LAST-MODIFIED:20170412T031002Z
UID:56952-1492075800-1492081200@sdusdfamilies.org
SUMMARY:Autism Through the Lifespan - Post High School Education and Employment
DESCRIPTION:Please join other parents\, caregivers and professionals at the following monthly informational and support group meetings in Old Town. These meetings will discuss the various aspects of autism through the lifespan. Each meeting will feature an expert speaker and an ASA parent mentor. This is a time for you to meet other parents\, ask questions and network.\n\nThe meetings are free and open to all.\n\nFor more information:   English and Spanish Fliers
URL:https://sdusdfamilies.org/calendar-cultural-events/autism-through-the-lifespan-post-high-school-education-and-employment/
LOCATION:2375 Congress Street\, San Diego\, CA\, 92110\, United States
END:VEVENT
END:VCALENDAR