BEGIN:VCALENDAR
VERSION:2.0
PRODID:-//Family Engagement Department - ECPv4.4.5//NONSGML v1.0//EN
CALSCALE:GREGORIAN
METHOD:PUBLISH
X-WR-CALNAME:Family Engagement Department
X-ORIGINAL-URL:https://sdusdfamilies.org
X-WR-CALDESC:Events for Family Engagement Department
BEGIN:VEVENT
DTSTART;TZID=UTC+0:20170324T180000
DTEND;TZID=UTC+0:20170324T200000
DTSTAMP:20260421T194805
CREATED:20170321T023046Z
LAST-MODIFIED:20170321T090129Z
UID:56157-1490378400-1490385600@sdusdfamilies.org
SUMMARY:BROTHER OUTSIDER: The life of Bayard Rustin
DESCRIPTION:\n\n\n\n\nFILM SCREENING AND DISCUSSION\n\nJoin us LGBTQIA Education and Advocacy Program for a free film screening of “Brother Outsider: The Life of Bayard Rustin.” The film illuminates the life and work of this visionary activist and strategist who has been called “the unknown hero” of the civil rights move- ment. A tireless crusader for social and economic justice\, a disciple of Gandhi\, a mentor to Martin Luther King Jr.\, and the organizer of the triumphant 1963 March on Washington.\n\n\n\n\n\n
URL:https://sdusdfamilies.org/calendar-cultural-events/brother-outsider-the-life-of-bayard-rustin/
LOCATION:2375 Congress Street\, San Diego\, CA\, 92110\, United States
END:VEVENT
END:VCALENDAR