BEGIN:VCALENDAR
VERSION:2.0
PRODID:-//Family Engagement Department - ECPv4.4.5//NONSGML v1.0//EN
CALSCALE:GREGORIAN
METHOD:PUBLISH
X-WR-CALNAME:Family Engagement Department
X-ORIGINAL-URL:https://sdusdfamilies.org
X-WR-CALDESC:Events for Family Engagement Department
BEGIN:VEVENT
DTSTART;TZID=UTC+0:20170523T090000
DTEND;TZID=UTC+0:20170523T103000
DTSTAMP:20260421T175600
CREATED:20170517T035707Z
LAST-MODIFIED:20170517T035718Z
UID:57319-1495530000-1495535400@sdusdfamilies.org
SUMMARY:Can We Talk? Parent Workshop @ Perkins ES
DESCRIPTION:
URL:https://sdusdfamilies.org/calendar-cultural-events/can-we-talk-parent-workshop-perkins-es/
LOCATION:1770 Main St.\, San Diego\, CA\, 92113\, United States
END:VEVENT
END:VCALENDAR