BEGIN:VCALENDAR
VERSION:2.0
PRODID:-//Family Engagement Department - ECPv4.4.5//NONSGML v1.0//EN
CALSCALE:GREGORIAN
METHOD:PUBLISH
X-WR-CALNAME:Family Engagement Department
X-ORIGINAL-URL:https://sdusdfamilies.org
X-WR-CALDESC:Events for Family Engagement Department
BEGIN:VEVENT
DTSTART;TZID=UTC+0:20170505T150000
DTEND;TZID=UTC+0:20170505T150000
DTSTAMP:20260421T195823
CREATED:20170411T092808Z
LAST-MODIFIED:20170504T054859Z
UID:56769-1493996400-1493996400@sdusdfamilies.org
SUMMARY:Cinco De Mayo Festival @ City Heights
DESCRIPTION:
URL:https://sdusdfamilies.org/calendar-cultural-events/cinco-de-mayo-festival/
LOCATION: 4380 Landis St\, San Diego\, CA\, 92105\, United States
END:VEVENT
END:VCALENDAR