BEGIN:VCALENDAR
VERSION:2.0
PRODID:-//Family Engagement Department - ECPv4.4.5//NONSGML v1.0//EN
CALSCALE:GREGORIAN
METHOD:PUBLISH
X-WR-CALNAME:Family Engagement Department
X-ORIGINAL-URL:https://sdusdfamilies.org
X-WR-CALDESC:Events for Family Engagement Department
BEGIN:VEVENT
DTSTART;TZID=UTC+0:20170511T180000
DTEND;TZID=UTC+0:20170511T190000
DTSTAMP:20260421T160043
CREATED:20170411T101653Z
LAST-MODIFIED:20170411T101653Z
UID:56824-1494525600-1494529200@sdusdfamilies.org
SUMMARY:Clairemont Cluster Meeting
DESCRIPTION:Cluster Schools\nElementary Schools\n\n \tAlcott Elementary School\n \tBay Park Elementary School\n \tCadman Elementary School\n \tHolmes Elementary School\n \tLongfellow Elementary School\n \tToler Elementary School\n\nMiddle School\n\n \tMarston Middle School\n\nHigh School\n\n \tClairemont High School\n\nNews\n\n \tNews from the Clairemont High School Cluster\n\nCluster Map\n\n> Download Cluster Map\nScheduled Meetings\nMeetings are generally the second Thursday of the month. See calendar.\nUpcoming Dates\n\n \tOctober 13\, 2016\n \tJanuary 12\, 2017\n \tMarch 9\, 2017\n \tMay 11\, 2017\n\nLocation\nLibrary\nClairemont High School\n4150 Ute Dr.\, San Diego\, CA 92117\nContacts\nDr. Jennifer Roberson\nPrincipal\, Clairemont High School\nCo-chairperson\njroberson@sandi.net
URL:https://sdusdfamilies.org/calendar-cultural-events/clairemont-cluster-meeting/
LOCATION:4150 Ute Dr.\, San Diego\, CA\, 92117\, United States
END:VEVENT
END:VCALENDAR