BEGIN:VCALENDAR
VERSION:2.0
PRODID:-//Family Engagement Department - ECPv4.4.5//NONSGML v1.0//EN
CALSCALE:GREGORIAN
METHOD:PUBLISH
X-WR-CALNAME:Family Engagement Department
X-ORIGINAL-URL:https://sdusdfamilies.org
X-WR-CALDESC:Events for Family Engagement Department
BEGIN:VEVENT
DTSTART;TZID=UTC+0:20170509T080000
DTEND;TZID=UTC+0:20170509T100000
DTSTAMP:20260421T155901
CREATED:20170411T094901Z
LAST-MODIFIED:20170411T094901Z
UID:56793-1494316800-1494324000@sdusdfamilies.org
SUMMARY:Classroom Volunteer Training @ Rosa Parks
DESCRIPTION:
URL:https://sdusdfamilies.org/calendar-cultural-events/classroom-volunteer-training-rosa-parks/
LOCATION:4510 Landis St\, San Diego\, CA\, 92105\, United States
END:VEVENT
END:VCALENDAR