BEGIN:VCALENDAR
VERSION:2.0
PRODID:-//Family Engagement Department - ECPv4.4.5//NONSGML v1.0//EN
CALSCALE:GREGORIAN
METHOD:PUBLISH
X-WR-CALNAME:Family Engagement Department
X-ORIGINAL-URL:https://sdusdfamilies.org
X-WR-CALDESC:Events for Family Engagement Department
BEGIN:VEVENT
DTSTART;TZID=UTC+0:20170413T190000
DTEND;TZID=UTC+0:20170413T203000
DTSTAMP:20260421T194357
CREATED:20170325T031539Z
LAST-MODIFIED:20170325T031539Z
UID:56234-1492110000-1492115400@sdusdfamilies.org
SUMMARY:Community Advisory Committee for Special Education (CAC)
DESCRIPTION:General meetings are normally held on the second Thursday of the month at 7:00 p.m.\, at the Harold Ballard Parent Center located at 2375 Congress Avenue\, San Diego\, CA 92110\, unless otherwise noted below.\n\nChild care and Spanish translation services will be available at all meetings.  Parking is available in the lot north of the campus on Congress Street.\n\nFor more information visit: CAC Website 
URL:https://sdusdfamilies.org/calendar-cultural-events/community-advisory-committee-for-special-education-cac/
LOCATION:2375 Congress Street\, San Diego\, CA\, 92110\, United States
END:VEVENT
END:VCALENDAR