BEGIN:VCALENDAR
VERSION:2.0
PRODID:-//Family Engagement Department - ECPv4.4.5//NONSGML v1.0//EN
CALSCALE:GREGORIAN
METHOD:PUBLISH
X-WR-CALNAME:Family Engagement Department
X-ORIGINAL-URL:https://sdusdfamilies.org
X-WR-CALDESC:Events for Family Engagement Department
BEGIN:VEVENT
DTSTART;TZID=UTC+0:20170424T170000
DTEND;TZID=UTC+0:20170424T183000
DTSTAMP:20260421T180239
CREATED:20170325T034036Z
LAST-MODIFIED:20170325T040752Z
UID:56270-1493053200-1493058600@sdusdfamilies.org
SUMMARY:Crawford Cluster Meeting
DESCRIPTION:Crawford Cluster Schools\n\n \t\nCarver\nClay\nCrawford HS\nEuclid\nFay\nIbarra\nMann MS\nMarshall\nOak Park\nRolando Park\n\nScheduled Meetings\n\n \tApril 24\, 2017\n \tMay 15\, 2017\n \tJune 12\, 2017\n\nTranslation services are provided\n\nTime: 5:00-6:30 p.m.\nLocation:\nFay Elementary\n4080 52nd Street\nSan Diego\, CA 92105\n\nContact\nAllen Teng\nateng@sandi.net
URL:https://sdusdfamilies.org/calendar-cultural-events/crawford-cluster-meeting/
LOCATION:4080 52nd Street\, San Diego\, CA\, 92105\, United States
END:VEVENT
END:VCALENDAR