BEGIN:VCALENDAR
VERSION:2.0
PRODID:-//Family Engagement Department - ECPv4.4.5//NONSGML v1.0//EN
CALSCALE:GREGORIAN
METHOD:PUBLISH
X-WR-CALNAME:Family Engagement Department
X-ORIGINAL-URL:https://sdusdfamilies.org
X-WR-CALDESC:Events for Family Engagement Department
BEGIN:VEVENT
DTSTART;TZID=UTC+0:20170504T183000
DTEND;TZID=UTC+0:20170504T200000
DTSTAMP:20260421T231552
CREATED:20170411T091354Z
LAST-MODIFIED:20170411T091354Z
UID:56736-1493922600-1493928000@sdusdfamilies.org
SUMMARY:DELAC General Meeting
DESCRIPTION:
URL:https://sdusdfamilies.org/calendar-cultural-events/delac-general-meeting/
LOCATION:2375 Congress Street\, San Diego\, CA\, 92110\, United States
END:VEVENT
END:VCALENDAR