BEGIN:VCALENDAR
VERSION:2.0
PRODID:-//Family Engagement Department - ECPv4.4.5//NONSGML v1.0//EN
CALSCALE:GREGORIAN
METHOD:PUBLISH
X-WR-CALNAME:Family Engagement Department
X-ORIGINAL-URL:https://sdusdfamilies.org
X-WR-CALDESC:Events for Family Engagement Department
BEGIN:VEVENT
DTSTART;TZID=UTC+0:20170419T183000
DTEND;TZID=UTC+0:20170419T200000
DTSTAMP:20260421T210203
CREATED:20170325T033008Z
LAST-MODIFIED:20170325T033008Z
UID:56260-1492626600-1492632000@sdusdfamilies.org
SUMMARY:District Advisory Council (DAC) Meeting
DESCRIPTION:All General Membership meetings of the District Advisory Council (DAC) for Compensatory Education are scheduled on the third Wednesday of the month at 6:30 p.m.\, at the Harold Ballard Parent Center located at 2375 Congress Avenue\, San Diego\, CA 92110\nChild care and translation services will be available at all meetings. Parking is available in the lot north of the campus on Congress Street.\n\nFor more information\, call Financial Planning\, Monitoring\, and Accountability at (619) 725-5605 or DAC Website
URL:https://sdusdfamilies.org/calendar-cultural-events/district-advisory-council-dac-meeting/
LOCATION:2375 Congress Street\, San Diego\, CA\, 92110\, United States
END:VEVENT
END:VCALENDAR