BEGIN:VCALENDAR
VERSION:2.0
PRODID:-//Family Engagement Department - ECPv4.4.5//NONSGML v1.0//EN
CALSCALE:GREGORIAN
METHOD:PUBLISH
X-WR-CALNAME:Family Engagement Department
X-ORIGINAL-URL:https://sdusdfamilies.org
X-WR-CALDESC:Events for Family Engagement Department
BEGIN:VEVENT
DTSTART;TZID=UTC+0:20170419T090000
DTEND;TZID=UTC+0:20170419T100000
DTSTAMP:20260421T173853
CREATED:20170411T044125Z
LAST-MODIFIED:20170411T044125Z
UID:56591-1492592400-1492596000@sdusdfamilies.org
SUMMARY:ELAC Meeting
DESCRIPTION:
URL:https://sdusdfamilies.org/calendar-cultural-events/elac-meeting/
LOCATION:3366 Park Blvd\, San Diego\, CA\, 92103\, United States
END:VEVENT
END:VCALENDAR