BEGIN:VCALENDAR
VERSION:2.0
PRODID:-//Family Engagement Department - ECPv4.4.5//NONSGML v1.0//EN
CALSCALE:GREGORIAN
METHOD:PUBLISH
X-WR-CALNAME:Family Engagement Department
X-ORIGINAL-URL:https://sdusdfamilies.org
X-WR-CALDESC:Events for Family Engagement Department
BEGIN:VEVENT
DTSTART;TZID=UTC+0:20170517T160000
DTEND;TZID=UTC+0:20170517T183000
DTSTAMP:20260421T191350
CREATED:20170412T025759Z
LAST-MODIFIED:20170412T025759Z
UID:56923-1495036800-1495045800@sdusdfamilies.org
SUMMARY:Equity Coalition
DESCRIPTION:
URL:https://sdusdfamilies.org/calendar-cultural-events/equity-coalition/
END:VEVENT
END:VCALENDAR