BEGIN:VCALENDAR
VERSION:2.0
PRODID:-//Family Engagement Department - ECPv4.4.5//NONSGML v1.0//EN
CALSCALE:GREGORIAN
METHOD:PUBLISH
X-WR-CALNAME:Family Engagement Department
X-ORIGINAL-URL:https://sdusdfamilies.org
X-WR-CALDESC:Events for Family Engagement Department
BEGIN:VEVENT
DTSTART;TZID=UTC+0:20170501T090000
DTEND;TZID=UTC+0:20170501T100000
DTSTAMP:20260421T230457
CREATED:20170411T085735Z
LAST-MODIFIED:20170411T085735Z
UID:56699-1493629200-1493632800@sdusdfamilies.org
SUMMARY:Euclid Community Meeting for New Principals
DESCRIPTION:
URL:https://sdusdfamilies.org/calendar-cultural-events/euclid-community-meeting-for-new-principals/
LOCATION:4166 Euclid Ave\, San Diego\, CA\, 92105\, United States
END:VEVENT
END:VCALENDAR