BEGIN:VCALENDAR
VERSION:2.0
PRODID:-//Family Engagement Department - ECPv4.4.5//NONSGML v1.0//EN
CALSCALE:GREGORIAN
METHOD:PUBLISH
X-WR-CALNAME:Family Engagement Department
X-ORIGINAL-URL:https://sdusdfamilies.org
X-WR-CALDESC:Events for Family Engagement Department
BEGIN:VEVENT
DTSTART;TZID=UTC+0:20170504T080000
DTEND;TZID=UTC+0:20170504T170000
DTSTAMP:20260421T195954
CREATED:20170412T031932Z
LAST-MODIFIED:20170412T032004Z
UID:56977-1493884800-1493917200@sdusdfamilies.org
SUMMARY:FERIA - Families+Educators+Resources + IHEs + Agencies
DESCRIPTION:Committee Meeting
URL:https://sdusdfamilies.org/calendar-cultural-events/feria-familieseducatorsresources-ihes-agencies/
LOCATION:2375 Congress Street\, San Diego\, CA\, 92110\, United States
END:VEVENT
END:VCALENDAR