BEGIN:VCALENDAR
VERSION:2.0
PRODID:-//Family Engagement Department - ECPv4.4.5//NONSGML v1.0//EN
CALSCALE:GREGORIAN
METHOD:PUBLISH
X-WR-CALNAME:Family Engagement Department
X-ORIGINAL-URL:https://sdusdfamilies.org
X-WR-CALDESC:Events for Family Engagement Department
BEGIN:VEVENT
DTSTART;TZID=UTC+0:20190914T110000
DTEND;TZID=UTC+0:20190914T160000
DTSTAMP:20260422T025713
CREATED:20190908T125552Z
LAST-MODIFIED:20190908T125609Z
UID:58897-1568458800-1568476800@sdusdfamilies.org
SUMMARY:FIESTAS PATRIAS CELEBRATION
DESCRIPTION:Celebrate Mexican Independence Day. This year our annual festivities commence at 11:00 am with the ringing of the bell at the historic Casa de Estudillo. This free event commemorates an important day in early San Diego history when Mexico declared independence from Spain on September 16\, 1821\, and Alta California became part of that new nation. Our exciting and colorful Fiestas Patrias festivities will be showcasing a variety of entertainment\, including historic and traditional music and dance groups\, crafts\, games\, and informational demonstrations that represent the activities enjoyed by the early settlers of San Diego in the 1800s.
URL:https://sdusdfamilies.org/calendar-cultural-events/fiestas-patrias-celebration/
LOCATION:4002 Wallace Street\, San Diego\, CA\, 92110\, United States
END:VEVENT
END:VCALENDAR