BEGIN:VCALENDAR
VERSION:2.0
PRODID:-//Family Engagement Department - ECPv4.4.5//NONSGML v1.0//EN
CALSCALE:GREGORIAN
METHOD:PUBLISH
X-WR-CALNAME:Family Engagement Department
X-ORIGINAL-URL:https://sdusdfamilies.org
X-WR-CALDESC:Events for Family Engagement Department
BEGIN:VEVENT
DTSTART;TZID=UTC+0:20170425T090000
DTEND;TZID=UTC+0:20170425T100000
DTSTAMP:20260421T180630
CREATED:20170411T045937Z
LAST-MODIFIED:20170411T083043Z
UID:56627-1493110800-1493114400@sdusdfamilies.org
SUMMARY:Follow Up Forum for Parents @ Chollas
DESCRIPTION:
URL:https://sdusdfamilies.org/calendar-cultural-events/follow-up-forum-for-parents-chollas/
LOCATION: 4525 Market St\, San Diego\, CA\, 92102\, United States
END:VEVENT
END:VCALENDAR