BEGIN:VCALENDAR
VERSION:2.0
PRODID:-//Family Engagement Department - ECPv4.4.5//NONSGML v1.0//EN
CALSCALE:GREGORIAN
METHOD:PUBLISH
X-WR-CALNAME:Family Engagement Department
X-ORIGINAL-URL:https://sdusdfamilies.org
X-WR-CALDESC:Events for Family Engagement Department
BEGIN:VEVENT
DTSTART;TZID=UTC+0:20170420T163000
DTEND;TZID=UTC+0:20170420T180000
DTSTAMP:20260421T140416
CREATED:20170325T041426Z
LAST-MODIFIED:20170325T041426Z
UID:56289-1492705800-1492711200@sdusdfamilies.org
SUMMARY:Henry Cluster Meeting
DESCRIPTION:Cluster Schools\n\n \tBenchley/Weinberger\nDailard\nFoster\nGage\nGreen\nHardy\nHearst\nHenry HS\nLewis MS\nMarvin\nPershing MS\n\nScheduled meeting day: Thursday\n\nRegular Cluster Meeting Dates\n\n \tOctober 20\, 2016\n \tNovember 17\, 2016\n \tJanuary 19\, 2017\n \tMarch 16\, 2017\n \tApril 20\, 2017\n\nTime: 4:30 P.M.\n\nLocation:\n\nPershing Middle School library\n8204 San Carlos Drive\nSan Diego\, CA 92119\nTelephone: (619) 465-3234\nWebsite:http://www.sandi.net/pershing\nContacts\n\nSusan Levy\, Principal\, Pershing Middle School\nslevy@sandi.net\n\nLaura Alluin\, Principal Hardy Elementary School\nlalluin@sandi.net
URL:https://sdusdfamilies.org/calendar-cultural-events/henry-cluster-meeting/
LOCATION:8204 San Carlos Drive\, San Diego\, CA\, 92119\, United States
END:VEVENT
END:VCALENDAR