BEGIN:VCALENDAR
VERSION:2.0
PRODID:-//Family Engagement Department - ECPv4.4.5//NONSGML v1.0//EN
CALSCALE:GREGORIAN
METHOD:PUBLISH
X-WR-CALNAME:Family Engagement Department
X-ORIGINAL-URL:https://sdusdfamilies.org
X-WR-CALDESC:Events for Family Engagement Department
BEGIN:VEVENT
DTSTART;TZID=UTC+0:20170522T074500
DTEND;TZID=UTC+0:20170522T090000
DTSTAMP:20260421T194157
CREATED:20170517T035514Z
LAST-MODIFIED:20170517T035514Z
UID:57314-1495439100-1495443600@sdusdfamilies.org
SUMMARY:Internet Safety Parent Workshop @ Zamorano
DESCRIPTION:
URL:https://sdusdfamilies.org/calendar-cultural-events/internet-safety-parent-workshop-zamorano/
LOCATION:2655 Casey St\, San Diego \, CA\, 92139\, United States
END:VEVENT
END:VCALENDAR