BEGIN:VCALENDAR
VERSION:2.0
PRODID:-//Family Engagement Department - ECPv4.4.5//NONSGML v1.0//EN
CALSCALE:GREGORIAN
METHOD:PUBLISH
X-WR-CALNAME:Family Engagement Department
X-ORIGINAL-URL:https://sdusdfamilies.org
X-WR-CALDESC:Events for Family Engagement Department
BEGIN:VEVENT
DTSTART;TZID=UTC+0:20170426T081500
DTEND;TZID=UTC+0:20170426T091500
DTSTAMP:20260421T215229
CREATED:20170411T050228Z
LAST-MODIFIED:20170411T050228Z
UID:56642-1493194500-1493198100@sdusdfamilies.org
SUMMARY:Knox Council Meeting
DESCRIPTION:
URL:https://sdusdfamilies.org/calendar-cultural-events/knox-council-meeting/
LOCATION:1098 S 49th St\, San Diego\, CA\, 92113\, United States
END:VEVENT
END:VCALENDAR