BEGIN:VCALENDAR
VERSION:2.0
PRODID:-//Family Engagement Department - ECPv4.4.5//NONSGML v1.0//EN
CALSCALE:GREGORIAN
METHOD:PUBLISH
X-WR-CALNAME:Family Engagement Department
X-ORIGINAL-URL:https://sdusdfamilies.org
X-WR-CALDESC:Events for Family Engagement Department
BEGIN:VEVENT
DTSTART;TZID=UTC+0:20170420T161500
DTEND;TZID=UTC+0:20170420T173000
DTSTAMP:20260421T155900
CREATED:20170325T042135Z
LAST-MODIFIED:20170325T042135Z
UID:56310-1492704900-1492709400@sdusdfamilies.org
SUMMARY:La Jolla Cluster Meeting
DESCRIPTION:La Jolla Cluster Schools\n\n \tBird Rock Elementary\n \tLa Jolla Elementary\n \tTorrey Pines Elementary\n \tMuirlands Middle School\n \tLa Jolla High School\n\n\n> Download Cluster Map\nScheduled Meetings\nGenerally held the third Thursday of the month\n\n \tSeptember 15\, 2016\n \tOctober 20\, 2016\n \tDecember 1\, 2016\n \tJanuary 19\, 2017\n \tFebruary 16\, 2017\n \tMarch 16\, 2017\n \tApril 20\, 2017\n \tMay 18\, 2017\n\nTime\n4:15-5:30 p.m.\nLocation\nLibrary\nMuirlands Middle School\n1056 Nautilus St.\nLa Jolla\, CA 92037\nContact\nDonna Tripi\, Chair dtripi@sandi.net\nWebsite\nwww.lajollacluster.com
URL:https://sdusdfamilies.org/calendar-cultural-events/la-jolla-cluster-meeting/
LOCATION:1056 Nautilus St.\, La Jolla\, CA\, 92037\, United States
END:VEVENT
END:VCALENDAR