BEGIN:VCALENDAR
VERSION:2.0
PRODID:-//Family Engagement Department - ECPv4.4.5//NONSGML v1.0//EN
CALSCALE:GREGORIAN
METHOD:PUBLISH
X-WR-CALNAME:Family Engagement Department
X-ORIGINAL-URL:https://sdusdfamilies.org
X-WR-CALDESC:Events for Family Engagement Department
BEGIN:VEVENT
DTSTART;TZID=UTC-8:20170427T170000
DTEND;TZID=UTC-8:20170427T183000
DTSTAMP:20260421T211430
CREATED:20170324T030902Z
LAST-MODIFIED:20170324T031130Z
UID:56216-1493312400-1493317800@sdusdfamilies.org
SUMMARY:LEGAL NAME CHANGE WORKSHOP FOR STUDENTS & PARENTS
DESCRIPTION:LGBTQIA Education and Advocacy & Project Trans:\nLEGAL NAME CHANGE WORKSHOP FOR STUDENTS & PARENTS\nApril 27\, 2017\nMay 25\, 2017\nJune 22\, 2017
URL:https://sdusdfamilies.org/calendar-cultural-events/legal-name-change-workshop-for-students-parents-2/
LOCATION:2375 Congress Street\, San Diego\, CA\, 92110\, United States
END:VEVENT
END:VCALENDAR