BEGIN:VCALENDAR
VERSION:2.0
PRODID:-//Family Engagement Department - ECPv4.4.5//NONSGML v1.0//EN
CALSCALE:GREGORIAN
METHOD:PUBLISH
X-WR-CALNAME:Family Engagement Department
X-ORIGINAL-URL:https://sdusdfamilies.org
X-WR-CALDESC:Events for Family Engagement Department
BEGIN:VEVENT
DTSTART;TZID=UTC+0:20170405T160000
DTEND;TZID=UTC+0:20170405T173000
DTSTAMP:20260421T174210
CREATED:20170325T014137Z
LAST-MODIFIED:20170325T014137Z
UID:56227-1491408000-1491413400@sdusdfamilies.org
SUMMARY:LGBTQIA ADVISORY
DESCRIPTION:LGBTQIA ADVISORY:\n\n\n\n April 5\, 2017\n Ed Center Rm 2226/4pm-5:30pm\n\n\n June 7\, 2017\n Ed Center Rm 2226/4pm-5:30pm\n\n\n
URL:https://sdusdfamilies.org/calendar-cultural-events/lgbtqia-advisory/
LOCATION:4100 Normal Street\, San Diego \, CA\, 92103\, United States
END:VEVENT
END:VCALENDAR