BEGIN:VCALENDAR
VERSION:2.0
PRODID:-//Family Engagement Department - ECPv4.4.5//NONSGML v1.0//EN
CALSCALE:GREGORIAN
METHOD:PUBLISH
X-WR-CALNAME:Family Engagement Department
X-ORIGINAL-URL:https://sdusdfamilies.org
X-WR-CALDESC:Events for Family Engagement Department
BEGIN:VEVENT
DTSTART;TZID=UTC+0:20170508T170000
DTEND;TZID=UTC+0:20170508T190000
DTSTAMP:20260421T192453
CREATED:20170325T042503Z
LAST-MODIFIED:20170325T042503Z
UID:56322-1494262800-1494270000@sdusdfamilies.org
SUMMARY:Lincoln Cluster Meeting
DESCRIPTION:Lincoln Cluster Schools\n\n \tBaker\n \tBalboa\n \tChavez\n \tChollas/Mead\n \tEncanto\n \tHorton\n \tJohnson\n \tKnox MS\n \tLincoln HS\n \tMillennial Tech MS\n \tNye\n \tPorter\n \tValencia Park\n \tWebster\n\n\n> Download Cluster Map\nScheduled Meetings\nAll meetings are from 5-7pm\nDates\n\n\n \tDecember 12\, 2016 - Minutes\n \tJanuary 9\, 2017 - Minutes\n \tFebruary 13\, 2017\n \tMarch 13\, 2017\n \tMay 8\, 2017\n \tJune 12\, 2017\n\n\nMaterials\n\n \tDraft Mission Statement and Goals\n \tLincoln Cluster Schools Powerpoint\n\nLocation\n\nAuditorium\nPorter Elementary North\n445 South 47th Street (92113)\n\n\nContacts\n\nRoosevelt Blackmon\, Chair\nLaShae Collins\, Co-Chair\nLillie McMillan\, Parliamentarian\nPamela King\, Recording Secretary\n
URL:https://sdusdfamilies.org/calendar-cultural-events/lincoln-cluster-meeting/
LOCATION:445 South 47th Street\, San Diego\, CA\, 92113\, United States
END:VEVENT
END:VCALENDAR