BEGIN:VCALENDAR
VERSION:2.0
PRODID:-//Family Engagement Department - ECPv4.4.5//NONSGML v1.0//EN
CALSCALE:GREGORIAN
METHOD:PUBLISH
X-WR-CALNAME:Family Engagement Department
X-ORIGINAL-URL:https://sdusdfamilies.org
X-WR-CALDESC:Events for Family Engagement Department
BEGIN:VEVENT
DTSTART;TZID=UTC+0:20170419T173000
DTEND;TZID=UTC+0:20170419T193000
DTSTAMP:20260421T192458
CREATED:20170411T044642Z
LAST-MODIFIED:20170411T044642Z
UID:56597-1492623000-1492630200@sdusdfamilies.org
SUMMARY:Linda Vista Multicultural Fair
DESCRIPTION:
URL:https://sdusdfamilies.org/calendar-cultural-events/linda-vista-multicultural-fair/
END:VEVENT
END:VCALENDAR