BEGIN:VCALENDAR
VERSION:2.0
PRODID:-//Family Engagement Department - ECPv4.4.5//NONSGML v1.0//EN
CALSCALE:GREGORIAN
METHOD:PUBLISH
X-WR-CALNAME:Family Engagement Department
X-ORIGINAL-URL:https://sdusdfamilies.org
X-WR-CALDESC:Events for Family Engagement Department
BEGIN:VEVENT
DTSTART;TZID=UTC+0:20170511T173000
DTEND;TZID=UTC+0:20170511T190000
DTSTAMP:20260421T121045
CREATED:20170411T102256Z
LAST-MODIFIED:20170411T102256Z
UID:56838-1494523800-1494529200@sdusdfamilies.org
SUMMARY:Math-Literacy Night @ Language Academy
DESCRIPTION:
URL:https://sdusdfamilies.org/calendar-cultural-events/math-literacy-night-language-academy/
LOCATION:4961 64th St\,\, San Diego\, CA\, 92115\, United States
END:VEVENT
END:VCALENDAR