BEGIN:VCALENDAR
VERSION:2.0
PRODID:-//Family Engagement Department - ECPv4.4.5//NONSGML v1.0//EN
CALSCALE:GREGORIAN
METHOD:PUBLISH
X-WR-CALNAME:Family Engagement Department
X-ORIGINAL-URL:https://sdusdfamilies.org
X-WR-CALDESC:Events for Family Engagement Department
BEGIN:VEVENT
DTSTART;TZID=UTC+0:20170425T080000
DTEND;TZID=UTC+0:20170425T170000
DTSTAMP:20260421T160832
CREATED:20170425T080820Z
LAST-MODIFIED:20170425T080846Z
UID:57201-1493107200-1493139600@sdusdfamilies.org
SUMMARY:Meet and Greet: Parents and Guardians of LGBTQ Youth
DESCRIPTION:
URL:https://sdusdfamilies.org/calendar-cultural-events/meet-and-greet-parents-and-guardians-of/
LOCATION:3909 Centre Street\, San Diego\, CA\, 92103\, United States
END:VEVENT
END:VCALENDAR