BEGIN:VCALENDAR
VERSION:2.0
PRODID:-//Family Engagement Department - ECPv4.4.5//NONSGML v1.0//EN
CALSCALE:GREGORIAN
METHOD:PUBLISH
X-WR-CALNAME:Family Engagement Department
X-ORIGINAL-URL:https://sdusdfamilies.org
X-WR-CALDESC:Events for Family Engagement Department
BEGIN:VEVENT
DTSTART;TZID=UTC+0:20170424T173000
DTEND;TZID=UTC+0:20170424T190000
DTSTAMP:20260421T194026
CREATED:20170325T043129Z
LAST-MODIFIED:20170325T043129Z
UID:56344-1493055000-1493060400@sdusdfamilies.org
SUMMARY:Mira Mesa Cluster Meeting
DESCRIPTION:Mira Mesa Cluster Schools\n\n \t\nChallenger Middle School\n \t\nEricson Elementary School\n \t\nHage Elementary School\n \t\nHickman Elementary School\n \t\nJonas Salk Elementary\n \t\nMason Elementary School\n \t\nMira Mesa High School\n \t\nSandburg Elementary School\n \t\nWalker Elementary School\n \t\nWangenheim Middle School\n\n\n> Download Cluster Map\nScheduled Meetings\nFrom 5:30 to 7:00 p.m.\n\nDates\n\n\n\n \tSeptember 26\, 2016\n \tOctober 24\, 2016\n \tNovember 14\, 2016 (2nd Monday)\n \tJanuary 30\, 2017 (last Monday of the month)\n \tFebruary 27\, 2017\n \tMarch 20\, 2017 (3rd Monday of the month)\n \tApril 24\, 2017\n \tMay 22\, 2017 (3rd Monday of the month)\n\n\n\nLocation\n\nMira Mesa High School\nMedia Center\n10510 Marauder Way (92126)\n\nContact Information\nBob Turner\nChairperson\, Mira Mesa Cluster School Council\ninfo@mmcluster.org\n\nJon Labaw\nVice Chairperson\, Mira Mesa Cluster School Council\n\n\nWebsite\n\nhttp://mmcluster.org
URL:https://sdusdfamilies.org/calendar-cultural-events/mira-mesa-cluster-meeting/
LOCATION:10510 Marauder Way\, San Diego\, CA\, 92126\, United States
END:VEVENT
END:VCALENDAR