BEGIN:VCALENDAR
VERSION:2.0
PRODID:-//Family Engagement Department - ECPv4.4.5//NONSGML v1.0//EN
CALSCALE:GREGORIAN
METHOD:PUBLISH
X-WR-CALNAME:Family Engagement Department
X-ORIGINAL-URL:https://sdusdfamilies.org
X-WR-CALDESC:Events for Family Engagement Department
BEGIN:VEVENT
DTSTART;TZID=UTC+0:20170504T180000
DTEND;TZID=UTC+0:20170504T193000
DTSTAMP:20260421T191606
CREATED:20170325T043430Z
LAST-MODIFIED:20170325T043444Z
UID:56355-1493920800-1493926200@sdusdfamilies.org
SUMMARY:Mission Bay Cluster Meeting
DESCRIPTION:The Mission Bay High School Cluster is holds regular discussions and community dialogue with school staff\, parents and community members in the Mission Bay High School area:\n\n \tMission Bay High School\n \tPacific Beach Middle School\n \tBarnard Asian Pacific Language Academy\n \tCrown Point Junior Music Academy\n \tKate Sessions Elementary School\n \tPacific Beach Elementary School\n\n\n> View Cluster Map\nScheduled Meetings\nGenerally the first Thursday of each month at 6 p.m.\n\n \tSeptember 8\, 2016\, Pacific Beach Middle School Media Center\n \tOctober 6\, 2016\, Mission Bay High School Library\n \tNovember 3\, 2016\, Pacific Beach Elementary School\n \tJanuary 5\, 2017\, Kate Sessions Elementary\n \tFebruary 2\, 2017\, Crown Point Junior Music Academy\n \tMarch 2\, 2017\, Barnard Asian Pacific Language Academy\n \tMay 4\, 2017\, Pacific Beach Middle School\n \tJune 1\, 2017\, Mission Bay High School\n\nBoard Members\n\n \tBonnie Franklin\, Chair\n \tJennifer Tandy\, Past Chair\n \tLily Higman\, Chair Elect\n \tMargot Hutchison\, Secretary\n \tMaria Mikus\, District Liaison\n \tNadine Dunphy\, Community Liaison\n\nContact\nMissionbaycluster@gmail.com\nWebsite\n\n \t​https://www.facebook.com/MissionBayCluster\n
URL:https://sdusdfamilies.org/calendar-cultural-events/mission-bay-cluster/
LOCATION:4676 Ingraham St\, San Diego\, CA\, 92109\, United States
END:VEVENT
END:VCALENDAR