BEGIN:VCALENDAR
VERSION:2.0
PRODID:-//Family Engagement Department - ECPv4.4.5//NONSGML v1.0//EN
CALSCALE:GREGORIAN
METHOD:PUBLISH
X-WR-CALNAME:Family Engagement Department
X-ORIGINAL-URL:https://sdusdfamilies.org
X-WR-CALDESC:Events for Family Engagement Department
BEGIN:VEVENT
DTSTART;TZID=UTC+0:20170517T170000
DTEND;TZID=UTC+0:20170517T190000
DTSTAMP:20260421T195845
CREATED:20170412T025500Z
LAST-MODIFIED:20170412T025500Z
UID:56912-1495040400-1495047600@sdusdfamilies.org
SUMMARY:Montgomery Open House & Recruitment Fair
DESCRIPTION:
URL:https://sdusdfamilies.org/calendar-cultural-events/montgomery-open-house-recruitment-fair/
LOCATION:2470 Ulric St\, San Diego\, CA\, 92111\, United States
END:VEVENT
END:VCALENDAR