BEGIN:VCALENDAR
VERSION:2.0
PRODID:-//Family Engagement Department - ECPv4.4.5//NONSGML v1.0//EN
CALSCALE:GREGORIAN
METHOD:PUBLISH
X-WR-CALNAME:Family Engagement Department
X-ORIGINAL-URL:https://sdusdfamilies.org
X-WR-CALDESC:Events for Family Engagement Department
BEGIN:VEVENT
DTSTART;TZID=UTC+0:20170411T130000
DTEND;TZID=UTC+0:20170411T150000
DTSTAMP:20260421T181703
CREATED:20170411T035106Z
LAST-MODIFIED:20170411T035106Z
UID:56518-1491915600-1491922800@sdusdfamilies.org
SUMMARY:New Principals Training
DESCRIPTION:
URL:https://sdusdfamilies.org/calendar-cultural-events/new-principals-training/
LOCATION:4100 Normal Street\, San Diego \, CA\, 92103\, United States
END:VEVENT
END:VCALENDAR