BEGIN:VCALENDAR
VERSION:2.0
PRODID:-//Family Engagement Department - ECPv4.4.5//NONSGML v1.0//EN
CALSCALE:GREGORIAN
METHOD:PUBLISH
X-WR-CALNAME:Family Engagement Department
X-ORIGINAL-URL:https://sdusdfamilies.org
X-WR-CALDESC:Events for Family Engagement Department
BEGIN:VEVENT
DTSTART;TZID=UTC+0:20170428T090000
DTEND;TZID=UTC+0:20170428T100000
DTSTAMP:20260421T210831
CREATED:20170411T083548Z
LAST-MODIFIED:20170411T083548Z
UID:56679-1493370000-1493373600@sdusdfamilies.org
SUMMARY:Normal Heights Family Friday
DESCRIPTION:@ Normal Heights Elementary
URL:https://sdusdfamilies.org/calendar-cultural-events/normal-heights-family-friday/
LOCATION:3750 Ward Rd\, San Diego\, CA\, 92116\, United States
END:VEVENT
END:VCALENDAR