BEGIN:VCALENDAR
VERSION:2.0
PRODID:-//Family Engagement Department - ECPv4.4.5//NONSGML v1.0//EN
CALSCALE:GREGORIAN
METHOD:PUBLISH
X-WR-CALNAME:Family Engagement Department
X-ORIGINAL-URL:https://sdusdfamilies.org
X-WR-CALDESC:Events for Family Engagement Department
BEGIN:VEVENT
DTSTART;TZID=UTC+0:20170517T180000
DTEND;TZID=UTC+0:20170517T193000
DTSTAMP:20260421T215540
CREATED:20170325T032734Z
LAST-MODIFIED:20170325T032734Z
UID:56255-1495044000-1495049400@sdusdfamilies.org
SUMMARY:PAC Meeting (Nominations & Elections)
DESCRIPTION:Families are invited to join us for our Indian Education Parent Advisory Committee (PAC) meetings. They are held at the Harold J. Ballard Parent Center. Located in Old Town San Diego at 2375 Congress Street\, San Diego\, 92110\, from 6:00 pm to 7:30 pm\, our monthly meetings help American Indian/Alaska Native students succeed in school\, and graduate and enroll in college. We value and need your input on how to best service the needs of American Indian/Alaska Native students\, so your participation at our Parent Advisory Committee (PAC) meetings is important.\n\nFor more information visit the PAC Website
URL:https://sdusdfamilies.org/calendar-cultural-events/pac-meeting-nominations-elections/
LOCATION:2375 Congress Street\, San Diego\, CA\, 92110\, United States
END:VEVENT
END:VCALENDAR