BEGIN:VCALENDAR
VERSION:2.0
PRODID:-//Family Engagement Department - ECPv4.4.5//NONSGML v1.0//EN
CALSCALE:GREGORIAN
METHOD:PUBLISH
X-WR-CALNAME:Family Engagement Department
X-ORIGINAL-URL:https://sdusdfamilies.org
X-WR-CALDESC:Events for Family Engagement Department
BEGIN:VEVENT
DTSTART;TZID=UTC+0:20170412T090000
DTEND;TZID=UTC+0:20170412T100000
DTSTAMP:20260421T215353
CREATED:20170411T041729Z
LAST-MODIFIED:20170411T041729Z
UID:56542-1491987600-1491991200@sdusdfamilies.org
SUMMARY:Parent Academic Workshop (Math)
DESCRIPTION:Math Parent Workshop at Adams Elementary School
URL:https://sdusdfamilies.org/calendar-cultural-events/parent-academic-workshop-math/
LOCATION:4672 35th St\, San Diego\, CA\, 92116\, United States
END:VEVENT
END:VCALENDAR