BEGIN:VCALENDAR
VERSION:2.0
PRODID:-//Family Engagement Department - ECPv4.4.5//NONSGML v1.0//EN
CALSCALE:GREGORIAN
METHOD:PUBLISH
X-WR-CALNAME:Family Engagement Department
X-ORIGINAL-URL:https://sdusdfamilies.org
X-WR-CALDESC:Events for Family Engagement Department
BEGIN:VEVENT
DTSTART;TZID=UTC+0:20170505T083000
DTEND;TZID=UTC+0:20170505T093000
DTSTAMP:20260421T212518
CREATED:20170411T092949Z
LAST-MODIFIED:20170411T092949Z
UID:56771-1493973000-1493976600@sdusdfamilies.org
SUMMARY:Parent Math Workshop @ Barnard ES
DESCRIPTION:
URL:https://sdusdfamilies.org/calendar-cultural-events/parent-math-workshop-barnard-es/
LOCATION:2445 Fogg St\, San Diego \, CA\, 92109\, United States
END:VEVENT
END:VCALENDAR