BEGIN:VCALENDAR
VERSION:2.0
PRODID:-//Family Engagement Department - ECPv4.4.5//NONSGML v1.0//EN
CALSCALE:GREGORIAN
METHOD:PUBLISH
X-WR-CALNAME:Family Engagement Department
X-ORIGINAL-URL:https://sdusdfamilies.org
X-WR-CALDESC:Events for Family Engagement Department
BEGIN:VEVENT
DTSTART;TZID=UTC+0:20170411T080000
DTEND;TZID=UTC+0:20170411T170000
DTSTAMP:20260421T195505
CREATED:20170412T040537Z
LAST-MODIFIED:20170412T040537Z
UID:57085-1491897600-1491930000@sdusdfamilies.org
SUMMARY:Parent Workshop @ Carver ES
DESCRIPTION:
URL:https://sdusdfamilies.org/calendar-cultural-events/parent-workshop-carver-es/
LOCATION:3251 Juanita St\, San Diego\, CA\, 92105\, United States
END:VEVENT
END:VCALENDAR