BEGIN:VCALENDAR
VERSION:2.0
PRODID:-//Family Engagement Department - ECPv4.4.5//NONSGML v1.0//EN
CALSCALE:GREGORIAN
METHOD:PUBLISH
X-WR-CALNAME:Family Engagement Department
X-ORIGINAL-URL:https://sdusdfamilies.org
X-WR-CALDESC:Events for Family Engagement Department
BEGIN:VEVENT
DTSTART;TZID=UTC+0:20170519T090000
DTEND;TZID=UTC+0:20170519T094500
DTSTAMP:20260421T211516
CREATED:20170412T030250Z
LAST-MODIFIED:20170412T030250Z
UID:56941-1495184400-1495187100@sdusdfamilies.org
SUMMARY:Parent Workshop: Literacy @ Linda Vista ES
DESCRIPTION:
URL:https://sdusdfamilies.org/calendar-cultural-events/parent-workshop-literacy-linda-vista-es/
LOCATION:2772 Ulric St\, San Diego\, CA\, 92111\, United States
END:VEVENT
END:VCALENDAR