BEGIN:VCALENDAR
VERSION:2.0
PRODID:-//Family Engagement Department - ECPv4.4.5//NONSGML v1.0//EN
CALSCALE:GREGORIAN
METHOD:PUBLISH
X-WR-CALNAME:Family Engagement Department
X-ORIGINAL-URL:https://sdusdfamilies.org
X-WR-CALDESC:Events for Family Engagement Department
BEGIN:VEVENT
DTSTART;TZID=UTC+0:20170424T082000
DTEND;TZID=UTC+0:20170424T100000
DTSTAMP:20260421T195247
CREATED:20170411T045847Z
LAST-MODIFIED:20170411T045847Z
UID:56622-1493022000-1493028000@sdusdfamilies.org
SUMMARY:Parent Workshop: SBAC @ Franklin
DESCRIPTION:
URL:https://sdusdfamilies.org/calendar-cultural-events/parent-workshop-sbac-franklin/
LOCATION:4481 Copeland Ave\,\, San Diego\, CA\, 92116\, United States
END:VEVENT
END:VCALENDAR