BEGIN:VCALENDAR
VERSION:2.0
PRODID:-//Family Engagement Department - ECPv4.4.5//NONSGML v1.0//EN
CALSCALE:GREGORIAN
METHOD:PUBLISH
X-WR-CALNAME:Family Engagement Department
X-ORIGINAL-URL:https://sdusdfamilies.org
X-WR-CALDESC:Events for Family Engagement Department
BEGIN:VEVENT
DTSTART;TZID=UTC+0:20170524T080000
DTEND;TZID=UTC+0:20170524T093000
DTSTAMP:20260421T173416
CREATED:20170412T035113Z
LAST-MODIFIED:20170412T035113Z
UID:57026-1495612800-1495618200@sdusdfamilies.org
SUMMARY:Parent Workshop: SBAC Testing  @ Central ES
DESCRIPTION:
URL:https://sdusdfamilies.org/calendar-cultural-events/parent-workshop-sbac-testing-central-es/
LOCATION:4063 Polk Ave\, San Diego\, CA\, 92105\, United States
END:VEVENT
END:VCALENDAR