BEGIN:VCALENDAR
VERSION:2.0
PRODID:-//Family Engagement Department - ECPv4.4.5//NONSGML v1.0//EN
CALSCALE:GREGORIAN
METHOD:PUBLISH
X-WR-CALNAME:Family Engagement Department
X-ORIGINAL-URL:https://sdusdfamilies.org
X-WR-CALDESC:Events for Family Engagement Department
BEGIN:VEVENT
DTSTART;TZID=UTC+0:20170417T180000
DTEND;TZID=UTC+0:20170417T190000
DTSTAMP:20260421T192000
CREATED:20170411T043253Z
LAST-MODIFIED:20170411T043253Z
UID:56572-1492452000-1492455600@sdusdfamilies.org
SUMMARY:Parent Workshop: SDCCD Promise Scholarship
DESCRIPTION:SDCCD Promise Scholarship Workshop @ Mira Mesa High School
URL:https://sdusdfamilies.org/calendar-cultural-events/parent-workshop-sdccd-promise-scholarship/
LOCATION:10510 Marauder Way\, San Diego\, CA\, 92126\, United States
END:VEVENT
END:VCALENDAR