BEGIN:VCALENDAR
VERSION:2.0
PRODID:-//Family Engagement Department - ECPv4.4.5//NONSGML v1.0//EN
CALSCALE:GREGORIAN
METHOD:PUBLISH
X-WR-CALNAME:Family Engagement Department
X-ORIGINAL-URL:https://sdusdfamilies.org
X-WR-CALDESC:Events for Family Engagement Department
BEGIN:VEVENT
DTSTART;TZID=UTC+0:20170501T163000
DTEND;TZID=UTC+0:20170501T183000
DTSTAMP:20260421T231552
CREATED:20170411T090145Z
LAST-MODIFIED:20170411T090145Z
UID:56710-1493656200-1493663400@sdusdfamilies.org
SUMMARY:Point Loma Cluster Meeting
DESCRIPTION:
URL:https://sdusdfamilies.org/calendar-cultural-events/point-loma-cluster-meeting-2/
LOCATION: 4302 Valeta St\, San Diego\, CA\, 92107\, United States
END:VEVENT
END:VCALENDAR