BEGIN:VCALENDAR
VERSION:2.0
PRODID:-//Family Engagement Department - ECPv4.4.5//NONSGML v1.0//EN
CALSCALE:GREGORIAN
METHOD:PUBLISH
X-WR-CALNAME:Family Engagement Department
X-ORIGINAL-URL:https://sdusdfamilies.org
X-WR-CALDESC:Events for Family Engagement Department
BEGIN:VEVENT
DTSTART;TZID=UTC+0:20170512T000000
DTEND;TZID=UTC+0:20170512T000000
DTSTAMP:20260421T140439
CREATED:20170413T013504Z
LAST-MODIFIED:20170413T013504Z
UID:57140-1494547200-1494547200@sdusdfamilies.org
SUMMARY:Power of Parents: It’s Your Influence
DESCRIPTION:Power of Parents: It’s Your Influence®—equipping parents with tools and strategies to talk to teens about alcohol and drugs (presented by MADD).\n\nContact Anna N. Shayo for more information \n\nashayo@saysandiego.org | 619-362-3758 | cell: 858-829-8629 | Crawford HS Bungalow 5
URL:https://sdusdfamilies.org/calendar-cultural-events/power-of-parents-its-your-influence/
LOCATION:4191 Colts Way\, San Diego\, CA\, 92115\, United States
ORGANIZER;CN="SAY%20San%20Diego":MAILTO:ashayo@saysandiego.org
END:VEVENT
END:VCALENDAR