BEGIN:VCALENDAR
VERSION:2.0
PRODID:-//Family Engagement Department - ECPv4.4.5//NONSGML v1.0//EN
CALSCALE:GREGORIAN
METHOD:PUBLISH
X-WR-CALNAME:Family Engagement Department
X-ORIGINAL-URL:https://sdusdfamilies.org
X-WR-CALDESC:Events for Family Engagement Department
BEGIN:VEVENT
DTSTART;TZID=UTC+0:20170525T163000
DTEND;TZID=UTC+0:20170525T190000
DTSTAMP:20260421T215235
CREATED:20170412T035638Z
LAST-MODIFIED:20170412T035638Z
UID:57052-1495729800-1495738800@sdusdfamilies.org
SUMMARY:Project Ujima Celebration @ Valencia Park
DESCRIPTION:
URL:https://sdusdfamilies.org/calendar-cultural-events/project-ujima-celebration-valencia-park/
LOCATION:5880 Skyline Dr\, San Diego\, CA\, 92114\, United States
END:VEVENT
END:VCALENDAR