BEGIN:VCALENDAR
VERSION:2.0
PRODID:-//Family Engagement Department - ECPv4.4.5//NONSGML v1.0//EN
CALSCALE:GREGORIAN
METHOD:PUBLISH
X-WR-CALNAME:Family Engagement Department
X-ORIGINAL-URL:https://sdusdfamilies.org
X-WR-CALDESC:Events for Family Engagement Department
BEGIN:VEVENT
DTSTART;TZID=UTC+0:20170411T163000
DTEND;TZID=UTC+0:20170411T190000
DTSTAMP:20260421T161952
CREATED:20170411T101752Z
LAST-MODIFIED:20170411T101752Z
UID:56830-1491928200-1491937200@sdusdfamilies.org
SUMMARY:Project Ujima @ Valencia Park
DESCRIPTION:
URL:https://sdusdfamilies.org/calendar-cultural-events/project-ujima-valencia-park-2/
LOCATION:5880 Skyline Dr\, San Diego\, CA\, 92114\, United States
END:VEVENT
END:VCALENDAR