BEGIN:VCALENDAR
VERSION:2.0
PRODID:-//Family Engagement Department - ECPv4.4.5//NONSGML v1.0//EN
CALSCALE:GREGORIAN
METHOD:PUBLISH
X-WR-CALNAME:Family Engagement Department
X-ORIGINAL-URL:https://sdusdfamilies.org
X-WR-CALDESC:Events for Family Engagement Department
BEGIN:VEVENT
DTSTART;TZID=UTC+0:20170427T180000
DTEND;TZID=UTC+0:20170427T190000
DTSTAMP:20260421T173724
CREATED:20170425T075634Z
LAST-MODIFIED:20170425T075634Z
UID:57197-1493316000-1493319600@sdusdfamilies.org
SUMMARY:PTA/Parent Survey Distribution
DESCRIPTION:@ Hoover High School
URL:https://sdusdfamilies.org/calendar-cultural-events/ptaparent-survey-distribution/
LOCATION:4474 El Cajon Blvd.\, San Diego\, CA\, 92115\, United States
END:VEVENT
END:VCALENDAR