BEGIN:VCALENDAR
VERSION:2.0
PRODID:-//Family Engagement Department - ECPv4.4.5//NONSGML v1.0//EN
CALSCALE:GREGORIAN
METHOD:PUBLISH
X-WR-CALNAME:Family Engagement Department
X-ORIGINAL-URL:https://sdusdfamilies.org
X-WR-CALDESC:Events for Family Engagement Department
BEGIN:VEVENT
DTSTART;TZID=UTC+0:20170525T090000
DTEND;TZID=UTC+0:20170525T120000
DTSTAMP:20260421T195642
CREATED:20170516T060642Z
LAST-MODIFIED:20170516T060642Z
UID:57305-1495702800-1495713600@sdusdfamilies.org
SUMMARY:Reclassification Ceremony @ Zamorano
DESCRIPTION:
URL:https://sdusdfamilies.org/calendar-cultural-events/reclassification-ceremony-zamorano/
LOCATION:2655 Casey St\, San Diego \, CA\, 92139\, United States
END:VEVENT
END:VCALENDAR