BEGIN:VCALENDAR
VERSION:2.0
PRODID:-//Family Engagement Department - ECPv4.4.5//NONSGML v1.0//EN
CALSCALE:GREGORIAN
METHOD:PUBLISH
X-WR-CALNAME:Family Engagement Department
X-ORIGINAL-URL:https://sdusdfamilies.org
X-WR-CALDESC:Events for Family Engagement Department
BEGIN:VEVENT
DTSTART;TZID=UTC+0:20170412T081500
DTEND;TZID=UTC+0:20170412T091500
DTSTAMP:20260421T191431
CREATED:20170411T040402Z
LAST-MODIFIED:20170411T040402Z
UID:56524-1491984900-1491988500@sdusdfamilies.org
SUMMARY:Restorative Circles
DESCRIPTION:You are invited to experience and participate in restorative circles that your child engages in daily at Knox.
URL:https://sdusdfamilies.org/calendar-cultural-events/restorative-circles/
LOCATION:1098 S 49th St\, San Diego\, CA\, 92113\, United States
END:VEVENT
END:VCALENDAR