BEGIN:VCALENDAR
VERSION:2.0
PRODID:-//Family Engagement Department - ECPv4.4.5//NONSGML v1.0//EN
CALSCALE:GREGORIAN
METHOD:PUBLISH
X-WR-CALNAME:Family Engagement Department
X-ORIGINAL-URL:https://sdusdfamilies.org
X-WR-CALDESC:Events for Family Engagement Department
BEGIN:VEVENT
DTSTART;TZID=UTC+0:20170412T170000
DTEND;TZID=UTC+0:20170412T190000
DTSTAMP:20260421T215540
CREATED:20170411T041925Z
LAST-MODIFIED:20170411T041925Z
UID:56548-1492016400-1492023600@sdusdfamilies.org
SUMMARY:Rowan Open House
DESCRIPTION:@ Rowan Elementary School
URL:https://sdusdfamilies.org/calendar-cultural-events/rowan-open-house/
LOCATION: 1755 Rowan St\, San Diego\, CA\, 92105\, United States
END:VEVENT
END:VCALENDAR