BEGIN:VCALENDAR
VERSION:2.0
PRODID:-//Family Engagement Department - ECPv4.4.5//NONSGML v1.0//EN
CALSCALE:GREGORIAN
METHOD:PUBLISH
X-WR-CALNAME:Family Engagement Department
X-ORIGINAL-URL:https://sdusdfamilies.org
X-WR-CALDESC:Events for Family Engagement Department
BEGIN:VEVENT
DTSTART;TZID=UTC+0:20170410T170000
DTEND;TZID=UTC+0:20170410T180000
DTSTAMP:20260421T194033
CREATED:20170325T044318Z
LAST-MODIFIED:20170325T044318Z
UID:56386-1491843600-1491847200@sdusdfamilies.org
SUMMARY:San Diego Cluster Meeting
DESCRIPTION:San Diego Cluster\nCluster Schools\n\n \t\nBirney\n \t\nBurbank\n \t\nEmerson/Bandini\n \t\nFlorence\n \t\nGarfield\n \t\nGolden Hill K-8\n \t\nGrant K-8\n \t\nJefferson\n \t\nKimbrough\n \t\nLanguage Academy\n \t\nLogan K-8\n \t\nMcKinley\n \t\nMemorial Prep MS\n \t\nPerkins K-8\n \t\nRodriguez\n \t\nRoosevelt MS\n \t\nSan Diego HS Complex\n \t\nSherman\n \t\nWashington\n\n\n> Download Cluster Map\nScheduled Meetings\nGenerally second Monday of the month\n\n Time\n5 - 6 p.m.\nLocation\nSan Diego High School\nLibrary\n1405 Park Blvd.\nSan Diego\, CA 92101\n\nContact\nCarmen Garcia\ncarmengarcia@sandi.net\n
URL:https://sdusdfamilies.org/calendar-cultural-events/san-diego-cluster-meeting/
LOCATION:1405 Park Blvd.\, San Diego\, CA\, 92101\, United States
END:VEVENT
END:VCALENDAR