BEGIN:VCALENDAR
VERSION:2.0
PRODID:-//Family Engagement Department - ECPv4.4.5//NONSGML v1.0//EN
CALSCALE:GREGORIAN
METHOD:PUBLISH
X-WR-CALNAME:Family Engagement Department
X-ORIGINAL-URL:https://sdusdfamilies.org
X-WR-CALDESC:Events for Family Engagement Department
BEGIN:VEVENT
DTSTART;TZID=UTC+0:20170525T074500
DTEND;TZID=UTC+0:20170525T091500
DTSTAMP:20260421T194157
CREATED:20170517T035811Z
LAST-MODIFIED:20170517T035811Z
UID:57325-1495698300-1495703700@sdusdfamilies.org
SUMMARY:SBAC Parent Workshop @ Rosa Parks
DESCRIPTION:
URL:https://sdusdfamilies.org/calendar-cultural-events/sbac-parent-workshop-rosa-parks/
LOCATION:4510 Landis St\, San Diego\, CA\, 92105\, United States
END:VEVENT
END:VCALENDAR