BEGIN:VCALENDAR
VERSION:2.0
PRODID:-//Family Engagement Department - ECPv4.4.5//NONSGML v1.0//EN
CALSCALE:GREGORIAN
METHOD:PUBLISH
X-WR-CALNAME:Family Engagement Department
X-ORIGINAL-URL:https://sdusdfamilies.org
X-WR-CALDESC:Events for Family Engagement Department
BEGIN:VEVENT
DTSTART;TZID=UTC+0:20170518T080000
DTEND;TZID=UTC+0:20170518T170000
DTSTAMP:20260421T191631
CREATED:20170412T025833Z
LAST-MODIFIED:20170412T025833Z
UID:56925-1495094400-1495126800@sdusdfamilies.org
SUMMARY:School Smarts @ Baker
DESCRIPTION:
URL:https://sdusdfamilies.org/calendar-cultural-events/school-smarts-baker-5/
LOCATION:4041 T St.\, San Diego\, CA\, 92113\, United States
END:VEVENT
END:VCALENDAR